BEGIN:VCALENDAR
VERSION:2.0
PRODID:-//Tukios.com/
BEGIN:VEVENT
UID:85243c34-30e6-4349-afa0-2eb3e3cf90f3@www.robbinsfuneralhome.com
DTSTAMP:20260421T173328Z
DTSTART:20260423T230000Z
DTEND:20260424T010000Z
SUMMARY:Visitation
DESCRIPTION:
URL:https://www.robbinsfuneralhome.com/obituaries/manuel-cornelio-papito
LOCATION: 2251 Mineral Spring Ave  North Providence RI 02911
GEO:41.8582274;-71.4842681
END:VEVENT
END:VCALENDAR