BEGIN:VCALENDAR
VERSION:2.0
PRODID:-//Tukios.com/
BEGIN:VEVENT
UID:d19b08e2-6a71-4e5b-be68-c287156d64a9@www.robbinsfuneralhome.com
DTSTAMP:20260419T184312Z
DTSTART:20260422T160000Z
DTEND:20260422T180000Z
SUMMARY:Visitation
DESCRIPTION:
URL:https://www.robbinsfuneralhome.com/obituaries/david-uttley
LOCATION:Robbins Funeral Home 2251 Mineral Spring Ave  North Providence 
	RI 02911
GEO:41.8582274;-71.4842681
END:VEVENT
END:VCALENDAR