BEGIN:VCALENDAR
VERSION:2.0
PRODID:-//Tukios.com/
BEGIN:VEVENT
UID:1e54ddab-6ee9-4285-ae57-4821dbbe46f8@www.robbinsfuneralhome.com
DTSTAMP:20260419T184204Z
DTSTART:20260422T180000Z
DTEND:20260422T190000Z
SUMMARY:Burial
DESCRIPTION:
URL:https://www.robbinsfuneralhome.com/obituaries/david-uttley
LOCATION:Highland Memorial Park Cemetery 1 Rhode Island Avenue  Johnston 
	RI 02919
GEO:41.8561641;-71.489394
END:VEVENT
END:VCALENDAR